Workbook

Sheet 고장이력
A1: 설비번호 | B1: 고장시작 | C1: 수리완료 | D1: 원인 | E1: 수리시간(h)
A2: EQ-006 | B2: 46266.192 | C2: 46266.433 | D2: 윤활 | E2: =IF(C2="","",ROUND((C2-B2)*24,2))
A3: EQ-008 | B3: 46266.349 | C3: 46266.583 | D3: 윤활 | E3: =IF(C3="","",ROUND((C3-B3)*24,2))
A4: EQ-002 | B4: 46266.488 | C4: 46266.772 | D4: 윤활 | E4: =IF(C4="","",ROUND((C4-B4)*24,2))
A5: EQ-006 | B5: 46267.265 | C5: 46267.504 | D5: 전원 | E5: =IF(C5="","",ROUND((C5-B5)*24,2))
A6: EQ-002 | B6: 46267.785 | C6: 46267.902 | D6: 전원 | E6: =IF(C6="","",ROUND((C6-B6)*24,2))
A7: EQ-003 | B7: 46268.123 | C7: 46268.24 | D7: 전원 | E7: =IF(C7="","",ROUND((C7-B7)*24,2))
A8: EQ-009 | B8: 46271.075 | C8: 46271.214 | D8: 벨트 | E8: =IF(C8="","",ROUND((C8-B8)*24,2))
A9: EQ-005 | B9: 46271.249 | C9: 46271.397 | D9: 베어링 | E9: =IF(C9="","",ROUND((C9-B9)*24,2))
A10: EQ-001 | B10: 46271.785 | C10: 46271.829 | D10: 베어링 | E10: =IF(C10="","",ROUND((C10-B10)*24,2))
A11: EQ-009 | B11: 46272.069 | C11: 46272.249 | D11: 센서 | E11: =IF(C11="","",ROUND((C11-B11)*24,2))
A12: EQ-006 | B12: 46272.634 | C12: 46272.69 | D12: 센서 | E12: =IF(C12="","",ROUND((C12-B12)*24,2))
A13: EQ-002 | B13: 46273.432 | C13: 46273.496 | D13: 벨트 | E13: =IF(C13="","",ROUND((C13-B13)*24,2))
... A38: EQ-009 | B38: 46293.951 | C38: 46294.057 | D38: 벨트 | E38: =IF(C38="","",ROUND((C38-B38)*24,2))
A39: EQ-010 | B39: 46294.449 | D39: 베어링 | E39: =IF(C39="","",ROUND((C39-B39)*24,2))

Sheet 월간지표
A1: 계획 운전시간(h) | B1: 720
A3: 설비번호 | B3: 고장건수 | C3: 총수리시간(h) | D3: MTTR(h) | E3: MTBF(h)
A4: EQ-001 | B4: =COUNTIFS(고장이력!$A$2:$A$100,A4,고장이력!$C$2:$C$100,"<>") | C4: =SUMIF(고장이력!$A$2:$A$100,A4,고장이력!$E$2:$E$100) | D4: =IFERROR(ROUND(C4/B4,2),"-") | E4: =IFERROR(ROUND(($B$1-C4)/B4,1),"-")
A5: EQ-002 | B5: =COUNTIFS(고장이력!$A$2:$A$100,A5,고장이력!$C$2:$C$100,"<>") | C5: =SUMIF(고장이력!$A$2:$A$100,A5,고장이력!$E$2:$E$100) | D5: =IFERROR(ROUND(C5/B5,2),"-") | E5: =IFERROR(ROUND(($B$1-C5)/B5,1),"-")
A6: EQ-003 | B6: =COUNTIFS(고장이력!$A$2:$A$100,A6,고장이력!$C$2:$C$100,"<>") | C6: =SUMIF(고장이력!$A$2:$A$100,A6,고장이력!$E$2:$E$100) | D6: =IFERROR(ROUND(C6/B6,2),"-") | E6: =IFERROR(ROUND(($B$1-C6)/B6,1),"-")
A7: EQ-004 | B7: =COUNTIFS(고장이력!$A$2:$A$100,A7,고장이력!$C$2:$C$100,"<>") | C7: =SUMIF(고장이력!$A$2:$A$100,A7,고장이력!$E$2:$E$100) | D7: =IFERROR(ROUND(C7/B7,2),"-") | E7: =IFERROR(ROUND(($B$1-C7)/B7,1),"-")
A8: EQ-005 | B8: =COUNTIFS(고장이력!$A$2:$A$100,A8,고장이력!$C$2:$C$100,"<>") | C8: =SUMIF(고장이력!$A$2:$A$100,A8,고장이력!$E$2:$E$100) | D8: =IFERROR(ROUND(C8/B8,2),"-") | E8: =IFERROR(ROUND(($B$1-C8)/B8,1),"-")
A9: EQ-006 | B9: =COUNTIFS(고장이력!$A$2:$A$100,A9,고장이력!$C$2:$C$100,"<>") | C9: =SUMIF(고장이력!$A$2:$A$100,A9,고장이력!$E$2:$E$100) | D9: =IFERROR(ROUND(C9/B9,2),"-") | E9: =IFERROR(ROUND(($B$1-C9)/B9,1),"-")
A10: EQ-007 | B10: =COUNTIFS(고장이력!$A$2:$A$100,A10,고장이력!$C$2:$C$100,"<>") | C10: =SUMIF(고장이력!$A$2:$A$100,A10,고장이력!$E$2:$E$100) | D10: =IFERROR(ROUND(C10/B10,2),"-") | E10: =IFERROR(ROUND(($B$1-C10)/B10,1),"-")
A11: EQ-008 | B11: =COUNTIFS(고장이력!$A$2:$A$100,A11,고장이력!$C$2:$C$100,"<>") | C11: =SUMIF(고장이력!$A$2:$A$100,A11,고장이력!$E$2:$E$100) | D11: =IFERROR(ROUND(C11/B11,2),"-") | E11: =IFERROR(ROUND(($B$1-C11)/B11,1),"-")
A12: EQ-009 | B12: =COUNTIFS(고장이력!$A$2:$A$100,A12,고장이력!$C$2:$C$100,"<>") | C12: =SUMIF(고장이력!$A$2:$A$100,A12,고장이력!$E$2:$E$100) | D12: =IFERROR(ROUND(C12/B12,2),"-") | E12: =IFERROR(ROUND(($B$1-C12)/B12,1),"-")
A13: EQ-010 | B13: =COUNTIFS(고장이력!$A$2:$A$100,A13,고장이력!$C$2:$C$100,"<>") | C13: =SUMIF(고장이력!$A$2:$A$100,A13,고장이력!$E$2:$E$100) | D13: =IFERROR(ROUND(C13/B13,2),"-") | E13: =IFERROR(ROUND(($B$1-C13)/B13,1),"-")
